BEGIN:VCALENDAR
VERSION:2.0
PRODID:-//Tukios.com/
BEGIN:VEVENT
UID:ae71bea9-5c7a-4417-9f4c-1df81657eb7c@www.bakermccullough.com
DTSTAMP:20260425T003912Z
DTSTART:20260428T153000Z
DTEND:20260428T163000Z
SUMMARY:Reception
DESCRIPTION:
URL:https://www.bakermccullough.com/obituaries/marian-taylor
LOCATION:Whitemarsh Island Baptist Church 59 Johnny Mercer Boulevard  
	Savannah GA 31410
GEO:32.0342225;-81.0082157
END:VEVENT
END:VCALENDAR