BEGIN:VCALENDAR
VERSION:2.0
PRODID:-//Tukios.com/
BEGIN:VEVENT
UID:4480ceed-1c37-4618-9a45-058909266a5f@www.bakermccullough.com
DTSTAMP:20260425T003928Z
DTSTART:20260428T170000Z
DTEND:20260428T180000Z
SUMMARY:Funeral Service
DESCRIPTION:
URL:https://www.bakermccullough.com/obituaries/marian-taylor
LOCATION:Whitemarsh Island Baptist Church 59 Johnny Mercer Boulevard  
	Savannah GA 31410
GEO:32.0342225;-81.0082157
END:VEVENT
END:VCALENDAR