BEGIN:VCALENDAR
VERSION:2.0
PRODID:-//Tukios.com/
BEGIN:VEVENT
UID:27c64f8e-607f-43c5-b3bc-77abca4eddfb@www.bakermccullough.com
DTSTAMP:20260422T205840Z
DTSTART:20260502T200000Z
DTEND:20260502T220000Z
SUMMARY:Memorial Gathering
DESCRIPTION:
URL:https://www.bakermccullough.com/obituaries/lisa-shiloski
LOCATION: 450 North Cromwell Road  Savannah GA 31410
GEO:32.005713;-80.98857
END:VEVENT
END:VCALENDAR