BEGIN:VCALENDAR
VERSION:2.0
PRODID:-//Tukios.com/
BEGIN:VEVENT
UID:3e644e9c-10ca-43cd-8b07-f9ef70ac07a6@www.bakermccullough.com
DTSTAMP:20260421T204631Z
DTSTART:20260426T210000Z
DTEND:20260426T220000Z
SUMMARY:Reception
DESCRIPTION:
URL:https://www.bakermccullough.com/obituaries/jacqueline-brasher
LOCATION:Marshes of Skidaway Island 95 Skidaway Island Park Road  
	Savannah GA 31411
GEO:31.9439045;-81.0581254
END:VEVENT
END:VCALENDAR