BEGIN:VCALENDAR
VERSION:2.0
PRODID:-//Tukios.com/
BEGIN:VEVENT
UID:c3130ac9-dace-42a8-b209-00549aebc7b8@www.bakermccullough.com
DTSTAMP:20260421T204723Z
DTSTART:20260426T193000Z
DTEND:20260426T203000Z
SUMMARY:Memorial Service
DESCRIPTION:
URL:https://www.bakermccullough.com/obituaries/jacqueline-brasher
LOCATION:St. Peter's Episcopal Church 3 West Ridge Road  Savannah GA 
	31411
GEO:31.9415301;-81.0491828
END:VEVENT
END:VCALENDAR